BEGIN:VCALENDAR
VERSION:2.0
PRODID:-//RSV-Ebnet - ECPv6.15.20//NONSGML v1.0//EN
CALSCALE:GREGORIAN
METHOD:PUBLISH
X-ORIGINAL-URL:https://rsv-ebnet.de
X-WR-CALDESC:Veranstaltungen für RSV-Ebnet
REFRESH-INTERVAL;VALUE=DURATION:PT1H
X-Robots-Tag:noindex
X-PUBLISHED-TTL:PT1H
BEGIN:VTIMEZONE
TZID:UTC
BEGIN:STANDARD
TZOFFSETFROM:+0000
TZOFFSETTO:+0000
TZNAME:UTC
DTSTART:20250101T000000
END:STANDARD
END:VTIMEZONE
BEGIN:VEVENT
DTSTART;VALUE=DATE:20260606
DTEND;VALUE=DATE:20260607
DTSTAMP:20260420T084705
CREATED:20260310T115543Z
LAST-MODIFIED:20260310T115543Z
UID:1078-1780704000-1780790399@rsv-ebnet.de
SUMMARY:Trois Ballon
DESCRIPTION:
URL:https://rsv-ebnet.de/event/trois-ballon/
CATEGORIES:RTF
END:VEVENT
BEGIN:VEVENT
DTSTART;VALUE=DATE:20260607
DTEND;VALUE=DATE:20260608
DTSTAMP:20260420T084705
CREATED:20260305T142130Z
LAST-MODIFIED:20260305T142130Z
UID:1011-1780790400-1780876799@rsv-ebnet.de
SUMMARY:60. Kirchbergrennen in Hofweier\, Hohberg-Hofweier
DESCRIPTION:
URL:https://rsv-ebnet.de/event/60-kirchbergrennen-in-hofweier-hohberg-hofweier/
CATEGORIES:Straßenrennen
END:VEVENT
BEGIN:VEVENT
DTSTART;VALUE=DATE:20260626
DTEND;VALUE=DATE:20260627
DTSTAMP:20260420T084705
CREATED:20260305T142206Z
LAST-MODIFIED:20260305T142206Z
UID:1013-1782432000-1782518399@rsv-ebnet.de
SUMMARY:Großer Preis der Firma Schöck\, Baden-Baden-Steinbach
DESCRIPTION:
URL:https://rsv-ebnet.de/event/grosser-preis-der-firma-schoeck-baden-baden-steinbach/
CATEGORIES:Straßenrennen
END:VEVENT
BEGIN:VEVENT
DTSTART;VALUE=DATE:20260627
DTEND;VALUE=DATE:20260628
DTSTAMP:20260420T084705
CREATED:20260310T115518Z
LAST-MODIFIED:20260310T115518Z
UID:1076-1782518400-1782604799@rsv-ebnet.de
SUMMARY:Alsacienne
DESCRIPTION:
URL:https://rsv-ebnet.de/event/alsacienne/
CATEGORIES:RTF
END:VEVENT
BEGIN:VEVENT
DTSTART;VALUE=DATE:20260628
DTEND;VALUE=DATE:20260629
DTSTAMP:20260420T084705
CREATED:20260305T145905Z
LAST-MODIFIED:20260305T145905Z
UID:1042-1782604800-1782691199@rsv-ebnet.de
SUMMARY:Münstertäler Cross-Country Rennen
DESCRIPTION:
URL:https://rsv-ebnet.de/event/muenstertaeler-cross-country-rennen/
CATEGORIES:Mtb-Rennen
END:VEVENT
END:VCALENDAR