BEGIN:VCALENDAR
VERSION:2.0
PRODID:-//RSV-Ebnet - ECPv6.15.20//NONSGML v1.0//EN
CALSCALE:GREGORIAN
METHOD:PUBLISH
X-WR-CALNAME:RSV-Ebnet
X-ORIGINAL-URL:https://rsv-ebnet.de
X-WR-CALDESC:Veranstaltungen für RSV-Ebnet
REFRESH-INTERVAL;VALUE=DURATION:PT1H
X-Robots-Tag:noindex
X-PUBLISHED-TTL:PT1H
BEGIN:VTIMEZONE
TZID:UTC
BEGIN:STANDARD
TZOFFSETFROM:+0000
TZOFFSETTO:+0000
TZNAME:UTC
DTSTART:20250101T000000
END:STANDARD
END:VTIMEZONE
BEGIN:VEVENT
DTSTART;VALUE=DATE:20260419
DTEND;VALUE=DATE:20260420
DTSTAMP:20260420T051551
CREATED:20260310T115223Z
LAST-MODIFIED:20260310T115223Z
UID:1066-1776556800-1776643199@rsv-ebnet.de
SUMMARY:GP de Soultz sous Forêts
DESCRIPTION:
URL:https://rsv-ebnet.de/event/gp-de-soultz-sous-forets/
CATEGORIES:Straßenrennen
END:VEVENT
BEGIN:VEVENT
DTSTART;VALUE=DATE:20260419
DTEND;VALUE=DATE:20260420
DTSTAMP:20260420T051551
CREATED:20260305T133726Z
LAST-MODIFIED:20260305T133822Z
UID:992-1776556800-1776643199@rsv-ebnet.de
SUMMARY:Konstanzer City Kriterium
DESCRIPTION:
URL:https://rsv-ebnet.de/event/konstanzer-city-kriterium/
CATEGORIES:Straßenrennen
END:VEVENT
BEGIN:VEVENT
DTSTART;VALUE=DATE:20260418
DTEND;VALUE=DATE:20260419
DTSTAMP:20260420T051551
CREATED:20260305T133629Z
LAST-MODIFIED:20260305T133855Z
UID:989-1776470400-1776556799@rsv-ebnet.de
SUMMARY:3. Frühjahrsmarktkriterium - Rund ums Rathaus Sinzheim
DESCRIPTION:
URL:https://rsv-ebnet.de/event/3-fruehjahrsmarktkriterium-rund-ums-rathaus-sinzheim/
CATEGORIES:Straßenrennen
END:VEVENT
BEGIN:VEVENT
DTSTART;VALUE=DATE:20260412
DTEND;VALUE=DATE:20260413
DTSTAMP:20260420T051551
CREATED:20260310T115156Z
LAST-MODIFIED:20260310T115156Z
UID:1064-1775952000-1776038399@rsv-ebnet.de
SUMMARY:GP Hyper U à Gueberschwihr
DESCRIPTION:
URL:https://rsv-ebnet.de/event/gp-hyper-u-a-gueberschwihr/
CATEGORIES:Straßenrennen
END:VEVENT
BEGIN:VEVENT
DTSTART;VALUE=DATE:20260406
DTEND;VALUE=DATE:20260407
DTSTAMP:20260420T051551
CREATED:20260305T145413Z
LAST-MODIFIED:20260323T090641Z
UID:1026-1775433600-1775519999@rsv-ebnet.de
SUMMARY:50. Rund um Schönaich
DESCRIPTION:
URL:https://rsv-ebnet.de/event/50-rund-um-schoenaich/
CATEGORIES:Straßenrennen
END:VEVENT
BEGIN:VEVENT
DTSTART;VALUE=DATE:20260329
DTEND;VALUE=DATE:20260330
DTSTAMP:20260420T051551
CREATED:20260305T145337Z
LAST-MODIFIED:20260305T145337Z
UID:1024-1774742400-1774828799@rsv-ebnet.de
SUMMARY:52. Backnanger Rundstreckenrennen\, Backnang-Waldrems
DESCRIPTION:
URL:https://rsv-ebnet.de/event/52-backnanger-rundstreckenrennen-backnang-waldrems/
CATEGORIES:Straßenrennen
END:VEVENT
BEGIN:VEVENT
DTSTART;VALUE=DATE:20260305
DTEND;VALUE=DATE:20260306
DTSTAMP:20260420T051551
CREATED:20260305T121927Z
LAST-MODIFIED:20260305T150421Z
UID:966-1772668800-1772755199@rsv-ebnet.de
SUMMARY:Trainingsrennen VeloClub Hohentwiel e.V. Singen
DESCRIPTION:
URL:https://rsv-ebnet.de/event/trainingsrennen-veloclub-hohentwiel-e-v-singen/
CATEGORIES:Straßenrennen
END:VEVENT
BEGIN:VEVENT
DTSTART;TZID=UTC:20260227T193000
DTEND;TZID=UTC:20260227T210000
DTSTAMP:20260420T051551
CREATED:20260305T122140Z
LAST-MODIFIED:20260305T122140Z
UID:968-1772220600-1772226000@rsv-ebnet.de
SUMMARY:Jahreshauptversammlung
DESCRIPTION:
URL:https://rsv-ebnet.de/event/jahreshauptversammlung/
LOCATION:Vereinsheim\, Unteres Grün 22\, Freiburg\, 79117
CATEGORIES:Jahreshauptversammlung
END:VEVENT
END:VCALENDAR