BEGIN:VCALENDAR
VERSION:2.0
PRODID:-//RSV-Ebnet - ECPv6.15.20//NONSGML v1.0//EN
CALSCALE:GREGORIAN
METHOD:PUBLISH
X-WR-CALNAME:RSV-Ebnet
X-ORIGINAL-URL:https://rsv-ebnet.de
X-WR-CALDESC:Veranstaltungen für RSV-Ebnet
REFRESH-INTERVAL;VALUE=DURATION:PT1H
X-Robots-Tag:noindex
X-PUBLISHED-TTL:PT1H
BEGIN:VTIMEZONE
TZID:UTC
BEGIN:STANDARD
TZOFFSETFROM:+0000
TZOFFSETTO:+0000
TZNAME:UTC
DTSTART:20250101T000000
END:STANDARD
END:VTIMEZONE
BEGIN:VEVENT
DTSTART;TZID=UTC:20260711T080000
DTEND;TZID=UTC:20260712T170000
DTSTAMP:20260424T111750
CREATED:20260305T145532Z
LAST-MODIFIED:20260305T145532Z
UID:1030-1783756800-1783875600@rsv-ebnet.de
SUMMARY:Großer Preis der Sparkasse Südpfalz in Roschbach
DESCRIPTION:
URL:https://rsv-ebnet.de/event/grosser-preis-der-sparkasse-suedpfalz-in-roschbach/
CATEGORIES:Straßenrennen
END:VEVENT
END:VCALENDAR