BEGIN:VCALENDAR
VERSION:2.0
PRODID:-//RSV-Ebnet - ECPv6.15.20//NONSGML v1.0//EN
CALSCALE:GREGORIAN
METHOD:PUBLISH
X-ORIGINAL-URL:https://rsv-ebnet.de
X-WR-CALDESC:Veranstaltungen für RSV-Ebnet
REFRESH-INTERVAL;VALUE=DURATION:PT1H
X-Robots-Tag:noindex
X-PUBLISHED-TTL:PT1H
BEGIN:VTIMEZONE
TZID:UTC
BEGIN:STANDARD
TZOFFSETFROM:+0000
TZOFFSETTO:+0000
TZNAME:UTC
DTSTART:20250101T000000
END:STANDARD
END:VTIMEZONE
BEGIN:VEVENT
DTSTART;VALUE=DATE:20260705
DTEND;VALUE=DATE:20260706
DTSTAMP:20260422T104332
CREATED:20260305T142431Z
LAST-MODIFIED:20260305T142431Z
UID:1015-1783209600-1783295999@rsv-ebnet.de
SUMMARY:58. Radrenntag in Ebringen
DESCRIPTION:
URL:https://rsv-ebnet.de/event/58-radrenntag-in-ebringen/
CATEGORIES:Straßenrennen
END:VEVENT
END:VCALENDAR