BEGIN:VCALENDAR
VERSION:2.0
PRODID:-//RSV-Ebnet - ECPv6.15.20//NONSGML v1.0//EN
CALSCALE:GREGORIAN
METHOD:PUBLISH
X-ORIGINAL-URL:https://rsv-ebnet.de
X-WR-CALDESC:Veranstaltungen für RSV-Ebnet
REFRESH-INTERVAL;VALUE=DURATION:PT1H
X-Robots-Tag:noindex
X-PUBLISHED-TTL:PT1H
BEGIN:VTIMEZONE
TZID:UTC
BEGIN:STANDARD
TZOFFSETFROM:+0000
TZOFFSETTO:+0000
TZNAME:UTC
DTSTART:20250101T000000
END:STANDARD
END:VTIMEZONE
BEGIN:VEVENT
DTSTART;VALUE=DATE:20260626
DTEND;VALUE=DATE:20260627
DTSTAMP:20260422T110212
CREATED:20260305T142206Z
LAST-MODIFIED:20260305T142206Z
UID:1013-1782432000-1782518399@rsv-ebnet.de
SUMMARY:Großer Preis der Firma Schöck\, Baden-Baden-Steinbach
DESCRIPTION:
URL:https://rsv-ebnet.de/event/grosser-preis-der-firma-schoeck-baden-baden-steinbach/
CATEGORIES:Straßenrennen
END:VEVENT
END:VCALENDAR