BEGIN:VCALENDAR
VERSION:2.0
PRODID:-//RSV-Ebnet - ECPv6.15.20//NONSGML v1.0//EN
CALSCALE:GREGORIAN
METHOD:PUBLISH
X-WR-CALNAME:RSV-Ebnet
X-ORIGINAL-URL:https://rsv-ebnet.de
X-WR-CALDESC:Veranstaltungen für RSV-Ebnet
REFRESH-INTERVAL;VALUE=DURATION:PT1H
X-Robots-Tag:noindex
X-PUBLISHED-TTL:PT1H
BEGIN:VTIMEZONE
TZID:UTC
BEGIN:STANDARD
TZOFFSETFROM:+0000
TZOFFSETTO:+0000
TZNAME:UTC
DTSTART:20250101T000000
END:STANDARD
END:VTIMEZONE
BEGIN:VEVENT
DTSTART;VALUE=DATE:20260517
DTEND;VALUE=DATE:20260518
DTSTAMP:20260420T084137
CREATED:20260305T141427Z
LAST-MODIFIED:20260305T141427Z
UID:1002-1778976000-1779062399@rsv-ebnet.de
SUMMARY:Lemming Turmbergrennen in Durlach
DESCRIPTION:
URL:https://rsv-ebnet.de/event/lemming-turmbergrennen-in-durlach/
CATEGORIES:Straßenrennen
END:VEVENT
END:VCALENDAR