BEGIN:VCALENDAR
VERSION:2.0
PRODID:-//RSV-Ebnet - ECPv6.15.20//NONSGML v1.0//EN
CALSCALE:GREGORIAN
METHOD:PUBLISH
X-ORIGINAL-URL:https://rsv-ebnet.de
X-WR-CALDESC:Veranstaltungen für RSV-Ebnet
REFRESH-INTERVAL;VALUE=DURATION:PT1H
X-Robots-Tag:noindex
X-PUBLISHED-TTL:PT1H
BEGIN:VTIMEZONE
TZID:UTC
BEGIN:STANDARD
TZOFFSETFROM:+0000
TZOFFSETTO:+0000
TZNAME:UTC
DTSTART:20250101T000000
END:STANDARD
END:VTIMEZONE
BEGIN:VEVENT
DTSTART;VALUE=DATE:20260502
DTEND;VALUE=DATE:20260503
DTSTAMP:20260420T070242
CREATED:20260305T145735Z
LAST-MODIFIED:20260305T150619Z
UID:1036-1777680000-1777766399@rsv-ebnet.de
SUMMARY:LV-Meisterschaft Einzelzeitfahren\, Baden-Württemberg
DESCRIPTION:
URL:https://rsv-ebnet.de/event/lv-meisterschaft-einzelzeitfahren-baden-wuerttemberg/
CATEGORIES:Straßenrennen
END:VEVENT
END:VCALENDAR